BEGIN:VCALENDAR
VERSION:2.0
PRODID:-//FireBird Motorsports Park - ECPv6.15.20//NONSGML v1.0//EN
CALSCALE:GREGORIAN
METHOD:PUBLISH
X-WR-CALNAME:FireBird Motorsports Park
X-ORIGINAL-URL:https://racefirebird.com
X-WR-CALDESC:Events for FireBird Motorsports Park
REFRESH-INTERVAL;VALUE=DURATION:PT1H
X-Robots-Tag:noindex
X-PUBLISHED-TTL:PT1H
BEGIN:VTIMEZONE
TZID:America/Phoenix
BEGIN:STANDARD
TZOFFSETFROM:-0700
TZOFFSETTO:-0700
TZNAME:MST
DTSTART:20230101T000000
END:STANDARD
END:VTIMEZONE
BEGIN:VEVENT
DTSTART;VALUE=DATE:20240106
DTEND;VALUE=DATE:20240108
DTSTAMP:20260421T151356
CREATED:20231217T171607Z
LAST-MODIFIED:20231229T040136Z
UID:6214-1704499200-1704671999@racefirebird.com
SUMMARY:2Xtreme Monster Trucks Live Tour Jan 6th and 7th
DESCRIPTION:Our BIGGEST. SHOW. EVER. Including SEVEN car-crushing Monster Trucks\, freestyle motocross\, a FMX front flip attempt\, monster truck rides\, kids powerwheel races\, and so much more! Two showtimes to choose from. \n2X Monster Trucks Live Chandler\, AZ\nShow Schedule and Tickets Available at\nhttps://www.2xtremeracingseries.com/chandler-az-2024 \n  \nFamily owned and operated\, 2X Monster Trucks Live Tour feature some of the most recognized and popular monster trucks in the sport\, including 2-time Monster Jam World Champion Bounty Hunter\, Queen of Monster Trucks\, Scarlet Bandit\, kid favorite Sharkbite\, Hot Tamale and many more!  At 2X Monster Truck shows you can expect plenty of interactive and action-packed entertainment for the entire family!Take the RIDE OF YOUR LIFE in a real monster truck\, giving superfans a chance to experience the power of riding in a real monster truck.  Kids under 12 get the chance to race on the field of destruction in their own battery-operated machine during the half time show!  Plus\, check out the gravity defying freestyle Motocross stunt show and a preshow meet & greet with your favorite drivers! \nOur mission is to provide affordable and fun family entertainment!  Bringing families & friends together for an unforgettable experience with memories that will last a lifetime. 
URL:https://racefirebird.com/event/2xtreme-monster-trucks-live-tour-jan-6th-and-7th/
ATTACH;FMTTYPE=image/webp:https://racefirebird.com/wp-content/uploads/2023/12/932653_0d30a993fc4046b097a5c4b1363e79fbmv2.webp
END:VEVENT
END:VCALENDAR