BEGIN:VCALENDAR
VERSION:2.0
PRODID:-//FireBird Motorsports Park - ECPv6.15.20//NONSGML v1.0//EN
CALSCALE:GREGORIAN
METHOD:PUBLISH
X-WR-CALNAME:FireBird Motorsports Park
X-ORIGINAL-URL:https://racefirebird.com
X-WR-CALDESC:Events for FireBird Motorsports Park
REFRESH-INTERVAL;VALUE=DURATION:PT1H
X-Robots-Tag:noindex
X-PUBLISHED-TTL:PT1H
BEGIN:VTIMEZONE
TZID:UTC
BEGIN:STANDARD
TZOFFSETFROM:+0000
TZOFFSETTO:+0000
TZNAME:UTC
DTSTART:20210101T000000
END:STANDARD
END:VTIMEZONE
BEGIN:VEVENT
DTSTART;VALUE=DATE:20220409
DTEND;VALUE=DATE:20220410
DTSTAMP:20260420T023415
CREATED:20230118T000348Z
LAST-MODIFIED:20230118T000348Z
UID:1723-1649462400-1649548799@racefirebird.com
SUMMARY:AZ Desert Showdown
DESCRIPTION:Date:\nApril 9\, 2022 \nTime:\n8am – 11pm \nDescription:\nAZ Desert Showdown is coming to Firebird Motorsports Park on April 9\, 2022. Truck and car show for automotive enthusiasts. Truck/car show and concert with 2 burnout pit full of action!! We are family friendly\, Come bring the family and have a good time watching burnouts\, seeing the custom trucks/cars\, listening to live music\, great food and an over all have an amazing experience!! \nTickets:\nClick Here for Tickets ➜ \nParking:\n$10
URL:https://racefirebird.com/event/az-desert-showdown-2022/
ATTACH;FMTTYPE=:
END:VEVENT
END:VCALENDAR