BEGIN:VCALENDAR
VERSION:2.0
PRODID:-//FireBird Motorsports Park - ECPv6.15.20//NONSGML v1.0//EN
CALSCALE:GREGORIAN
METHOD:PUBLISH
X-WR-CALNAME:FireBird Motorsports Park
X-ORIGINAL-URL:https://racefirebird.com
X-WR-CALDESC:Events for FireBird Motorsports Park
REFRESH-INTERVAL;VALUE=DURATION:PT1H
X-Robots-Tag:noindex
X-PUBLISHED-TTL:PT1H
BEGIN:VTIMEZONE
TZID:UTC
BEGIN:STANDARD
TZOFFSETFROM:+0000
TZOFFSETTO:+0000
TZNAME:UTC
DTSTART:20240101T000000
END:STANDARD
END:VTIMEZONE
BEGIN:VEVENT
DTSTART;TZID=UTC:20250921T080000
DTEND;TZID=UTC:20250921T170000
DTSTAMP:20260421T045504
CREATED:20250517T045940Z
LAST-MODIFIED:20250603T053351Z
UID:7527-1758441600-1758474000@racefirebird.com
SUMMARY:Brake Free Track Time (East Track) 	September 21\, 2025
DESCRIPTION:Gates open at 630am. Riders meeting is at 730am. Track is hot from 8am-5pm. \nPlease note – there are no refunds and registration is non-transferable for any reason. We ride regardless of weather conditions.\nYou have many options available. These are the groups available; \n  \nMORE INFO HERE: Trackday Registration – BrakeFreeTrackTime
URL:https://racefirebird.com/event/brake-free-track-time-east-track/
ATTACH;FMTTYPE=image/jpeg:https://racefirebird.com/wp-content/uploads/2025/05/2png_cb8536ec-ac85-494c-a37a-6efbf445fbc2-ezgif.com-webp-to-jpg-converter.jpg
END:VEVENT
END:VCALENDAR