BEGIN:VCALENDAR
VERSION:2.0
PRODID:-//FireBird Motorsports Park - ECPv6.15.20//NONSGML v1.0//EN
CALSCALE:GREGORIAN
METHOD:PUBLISH
X-WR-CALNAME:FireBird Motorsports Park
X-ORIGINAL-URL:https://racefirebird.com
X-WR-CALDESC:Events for FireBird Motorsports Park
REFRESH-INTERVAL;VALUE=DURATION:PT1H
X-Robots-Tag:noindex
X-PUBLISHED-TTL:PT1H
BEGIN:VTIMEZONE
TZID:UTC
BEGIN:STANDARD
TZOFFSETFROM:+0000
TZOFFSETTO:+0000
TZNAME:UTC
DTSTART:20230101T000000
END:STANDARD
END:VTIMEZONE
BEGIN:VEVENT
DTSTART;VALUE=DATE:20240217
DTEND;VALUE=DATE:20240219
DTSTAMP:20260420T211230
CREATED:20240104T190518Z
LAST-MODIFIED:20240104T190518Z
UID:6230-1708128000-1708300799@racefirebird.com
SUMMARY:Dragstrip Team Bracket Race 1 & 2
DESCRIPTION:Date:\nFebruary 17-18\, 2024
URL:https://racefirebird.com/event/dragstrip-team-bracket-race-1-2/
END:VEVENT
END:VCALENDAR