BEGIN:VCALENDAR
VERSION:2.0
PRODID:-//FireBird Motorsports Park - ECPv6.15.20//NONSGML v1.0//EN
CALSCALE:GREGORIAN
METHOD:PUBLISH
X-WR-CALNAME:FireBird Motorsports Park
X-ORIGINAL-URL:https://racefirebird.com
X-WR-CALDESC:Events for FireBird Motorsports Park
REFRESH-INTERVAL;VALUE=DURATION:PT1H
X-Robots-Tag:noindex
X-PUBLISHED-TTL:PT1H
BEGIN:VTIMEZONE
TZID:UTC
BEGIN:STANDARD
TZOFFSETFROM:+0000
TZOFFSETTO:+0000
TZNAME:UTC
DTSTART:20240101T000000
END:STANDARD
END:VTIMEZONE
BEGIN:VEVENT
DTSTART;TZID=UTC:20250913T170000
DTEND;TZID=UTC:20250913T230000
DTSTAMP:20260421T050405
CREATED:20250808T004513Z
LAST-MODIFIED:20250823T043629Z
UID:7727-1757782800-1757804400@racefirebird.com
SUMMARY:Drift and Drag (Drag Strip)
DESCRIPTION:Drift ParticipantsEnter through Gate 3 – Opens 5:00pm*** Track Hot 6pm-11pmPark in the upper pit area – beyond the tech inspection areaCrew members pay general admission fees.\nDrift Participants- driver’s meeting 5:45 at the course entrance.Drivers and passengers must keep arms inside the vehicle.Participant gates and tech inspection open until 9:30 pm.\n\nDrag ParticipantsEnter through Gate 3-Opens 5:00pm*** Track Hot 6pm-11pmPark in the upper pit area – before the tech inspection areaCrew members pay general admission fees.\n\nTickets: GoFast Entertainment MAIN TRACK DRIFT N DRAGS tickets
URL:https://racefirebird.com/event/drift-and-drag-drag-strip/
ATTACH;FMTTYPE=image/jpeg:https://racefirebird.com/wp-content/uploads/2025/05/Copy-of-firebird-1.jpg
END:VEVENT
END:VCALENDAR