BEGIN:VCALENDAR
VERSION:2.0
PRODID:-//FireBird Motorsports Park - ECPv6.15.20//NONSGML v1.0//EN
CALSCALE:GREGORIAN
METHOD:PUBLISH
X-WR-CALNAME:FireBird Motorsports Park
X-ORIGINAL-URL:https://racefirebird.com
X-WR-CALDESC:Events for FireBird Motorsports Park
REFRESH-INTERVAL;VALUE=DURATION:PT1H
X-Robots-Tag:noindex
X-PUBLISHED-TTL:PT1H
BEGIN:VTIMEZONE
TZID:UTC
BEGIN:STANDARD
TZOFFSETFROM:+0000
TZOFFSETTO:+0000
TZNAME:UTC
DTSTART:20240101T000000
END:STANDARD
END:VTIMEZONE
BEGIN:VEVENT
DTSTART;TZID=UTC:20251025T160000
DTEND;TZID=UTC:20251025T230000
DTSTAMP:20260421T120717
CREATED:20251016T025901Z
LAST-MODIFIED:20251016T025901Z
UID:8142-1761408000-1761433200@racefirebird.com
SUMMARY:Fall Shootout returns to Firebird Motorsports Park!
DESCRIPTION:Get ready for a heart-pounding weekend of drag racing action at the Firebird Fall Shootout! Top Alcohol Dragsters\, Top Alcohol Funny Cars\, Jet Cars\, and Bracket Racing will all be in action. This is your chance to see some of the fastest machines on the planet go head-to-head. The event will be held on October 24-25\, 2025 at Firebird Motorsports Park. \nEvent Times: \n\n Thursday\, Oct 23 Alcohol Parking starts at Noon\nFriday\, Oct 24: 5pm-11pm\nSaturday\, Oct 25: 4pm-11pm\n\nGate Times: \n\n Racer Gates: Friday at 3pm\, Saturday at 2pm – All pitting will be in lower pit area\nSpectator Gates: Friday at 5pm\, Saturday at 4pm\n\nDon’t miss these highlights: \n\n Alcohol Qualify: Friday-6:00pm\,8:00pm\, 10:00pm\nSaturday 4:50pm National anthem\, invocation alcohol and round 1 of Alcohol immediately following\n\nEvery ticket is a pit pass. Kids 12 & under are FREE! \n**All times subject to change**
URL:https://racefirebird.com/event/fall-shootout-returns-to-firebird-motorsports-park-2/
ATTACH;FMTTYPE=image/jpeg:https://racefirebird.com/wp-content/uploads/2025/09/fallshootout_social-scaled.jpg
END:VEVENT
END:VCALENDAR