BEGIN:VCALENDAR
VERSION:2.0
PRODID:-//FireBird Motorsports Park - ECPv6.15.20//NONSGML v1.0//EN
CALSCALE:GREGORIAN
METHOD:PUBLISH
X-WR-CALNAME:FireBird Motorsports Park
X-ORIGINAL-URL:https://racefirebird.com
X-WR-CALDESC:Events for FireBird Motorsports Park
REFRESH-INTERVAL;VALUE=DURATION:PT1H
X-Robots-Tag:noindex
X-PUBLISHED-TTL:PT1H
BEGIN:VTIMEZONE
TZID:UTC
BEGIN:STANDARD
TZOFFSETFROM:+0000
TZOFFSETTO:+0000
TZNAME:UTC
DTSTART:20220101T000000
END:STANDARD
END:VTIMEZONE
BEGIN:VEVENT
DTSTART;VALUE=DATE:20230421
DTEND;VALUE=DATE:20230422
DTSTAMP:20260421T182503
CREATED:20230118T012954Z
LAST-MODIFIED:20230118T012954Z
UID:1770-1682035200-1682121599@racefirebird.com
SUMMARY:Friday Night Drags - Run What Ya' Brung!
DESCRIPTION:Date:\nApril 21st\, 2023 \n(All Friday Night Drags dates are subject to change. Check back here the week of for more information.) \nTime:\nGates open at 6pm/track goes hot at 7pm \nTickets:\nCOMING SOON! \nDescription:\nFriday Night “Run What Ya’ Brung” open drags have been a staple of the Arizona racing community for over 25 years. \nWhether you are driving an all out race car or your daily driver\, you can race down the same 1/4 mile track that the NHRA Pro drivers do.  On a typical Friday night you can expect to see everything from a mini van to an occasional jet car testing! \nIf you’ve ever wanted to race friends or family for a change-of-pace evening of pure fun\, then BRING IT to Firebird Motorsports Park and RUN IT! Experience the heart-pounding adrenaline of waiting to launch off the starting line at a world-class drag strip to see what elapsed time and mph your car can run – or match-race your friends! \nFriday Night Drags is the safest and easiest place to test your car’s performance capabilities – make a run\, pick up your time/mph slip\, then get right back in line. \nFirebird Motorsports Park is a premier and historic national sports venue. It has been home to NHRA-sanctioned national events since its opening in 1983 with some mind-blowing record speeds being clocked here. Now it’s your chance to charge down the drag strip for a night of exhilarating fun. \nRules & Requirements:\nRules and Requirements
URL:https://racefirebird.com/event/friday-night-drags-april-21-2023/
ATTACH;FMTTYPE=:
END:VEVENT
END:VCALENDAR