BEGIN:VCALENDAR
VERSION:2.0
PRODID:-//FireBird Motorsports Park - ECPv6.15.20//NONSGML v1.0//EN
CALSCALE:GREGORIAN
METHOD:PUBLISH
X-WR-CALNAME:FireBird Motorsports Park
X-ORIGINAL-URL:https://racefirebird.com
X-WR-CALDESC:Events for FireBird Motorsports Park
REFRESH-INTERVAL;VALUE=DURATION:PT1H
X-Robots-Tag:noindex
X-PUBLISHED-TTL:PT1H
BEGIN:VTIMEZONE
TZID:UTC
BEGIN:STANDARD
TZOFFSETFROM:+0000
TZOFFSETTO:+0000
TZNAME:UTC
DTSTART:20240101T000000
END:STANDARD
END:VTIMEZONE
BEGIN:VEVENT
DTSTART;TZID=UTC:20250405T080000
DTEND;TZID=UTC:20250405T173000
DTSTAMP:20260420T204218
CREATED:20250304T040723Z
LAST-MODIFIED:20250304T040723Z
UID:7444-1743840000-1743874200@racefirebird.com
SUMMARY:LAW TIGERS PRESENTS: METRO MAYHEM AZ 25'
DESCRIPTION:COME EXPERIENCE THE LARGEST GATHERING OF MOTORCYCLE ACTION IN THE COUNTRY!\nMETRO MAYHEM PRESENTED BY LAW TIGERS ARIZONA’S MOTORCYCLE LAWYERS! \n  \n*WHAT TO EXPECT!! \n*THE BIGGEST AND MOST ACTION PACKED STUNT COMPETITION FINALLY RETURNS TO ARIZONA!! THE BRAWL!!! HOSTED BY RIDE & DESTROY GUARANTEES TO LEAVE YOU ON THE EDGE OF YOUR SEATS! \n*ADDING TO THE MAYHEM IN A HUGE WAY IS GET VERTICAL HOSTING THEIR EPIC ‘STUNT GAMES’ & ‘LIMBO DRIFT’ COMPETITIONS!! INNOVATING THE STUNT WORLD WITH UNIQUE COMPETITIONS THAT KEEP THE FANS CHEERING FOR MORE! \n*NEW TO METRO MAYHEM THIS YEAR IS THE SPORT BIKE STUNT COMPETITIONS HOSTED BY GET VERTICAL & SCRAPECITY! WATCH THE MASTERS OF TECHNICAL MANEUVERS BATTLE IT OUT FOR THE CHAMPIONSHIP! \n  \n*TAKING FULL ADVANTAGE OF OUR AMAZING VENUE WESTERN PRO EXTREME ASSOCIATION WILL BE RUNNING OUR MOTORCYCLE ONLY DRAG RACES! BRINGING YOU MID 6 SEC BIKES BLAZING DOWN A FULL 1/4 MILE NHRA DRAG STRIP AT OVER 200MPH!! \n  \n*FEELING THE NEED FOR SPEED YOURSELF!? MAKE SURE TO TAKE ADVANTAGE OF OUR RUN WHAT YOU BRUNG 1/8TH MILE DRAG RACING AND SEE WHAT YOU ARE CAPABLE OF!! \n  \n*RETURNING FOR THE 2ND YEAR ‘LOWRIDER HALL OF FAMER’ FRANKS HYDRAULICS WILL BRING THE ACTION FROM THE LOWRIDER SIDE WITH HIS WORLD FAMOUS CAR HOP! ENJOY THE THRILL OF SEEING A CLASSIC CAR THROW THEIR FRONT END 80+ INCHES IN THE AIR! \n  \n*WANT TO EXPERIENCE THE THRILL OF DRIVING SIDEWAYS AT 90MPH WHILE RIPPING AROUND A TURN!? GET SIGNED UP FOR OUR PRO DRIFTER RIDE ALONGS BROUGHT TO YOU BY ICON MECHANICAL! \n  \n* WHILE HAVING THE TIME OF YOUR LIFE DON’T MISS OUT ON THE MOTORCYCLE SPECIFIC VENDOR ROW!
URL:https://racefirebird.com/event/law-tigers-presents-metro-mayhem-az-25/
ATTACH;FMTTYPE=image/png:https://racefirebird.com/wp-content/uploads/2025/03/META-COVER-PAGE.png
END:VEVENT
END:VCALENDAR