BEGIN:VCALENDAR
VERSION:2.0
PRODID:-//FireBird Motorsports Park - ECPv6.15.20//NONSGML v1.0//EN
CALSCALE:GREGORIAN
METHOD:PUBLISH
X-WR-CALNAME:FireBird Motorsports Park
X-ORIGINAL-URL:https://racefirebird.com
X-WR-CALDESC:Events for FireBird Motorsports Park
REFRESH-INTERVAL;VALUE=DURATION:PT1H
X-Robots-Tag:noindex
X-PUBLISHED-TTL:PT1H
BEGIN:VTIMEZONE
TZID:America/Phoenix
BEGIN:STANDARD
TZOFFSETFROM:-0700
TZOFFSETTO:-0700
TZNAME:MST
DTSTART:20240101T000000
END:STANDARD
END:VTIMEZONE
BEGIN:VEVENT
DTSTART;VALUE=DATE:20250218
DTEND;VALUE=DATE:20250224
DTSTAMP:20260421T095518
CREATED:20241223T035616Z
LAST-MODIFIED:20250204T011253Z
UID:7363-1739836800-1740355199@racefirebird.com
SUMMARY:NHRA Division 7 Doubleheader (Dragstrip)
DESCRIPTION:The NHRA Pacific Division 7 Lucas Oil Drag Racing Series will be at Firebird Motorsports Park February 20th-23rd\, 2025. This event is one of 48 events across the country divided into 7 divisions where drivers earn points leading to divisional\, regional and national championships as well as a chance at a share of the year-end purse. \n 
URL:https://racefirebird.com/event/nhra-division-7-doubleheader-dragstrip/
ATTACH;FMTTYPE=image/jpeg:https://racefirebird.com/wp-content/uploads/2024/12/Div7_LODRS_Firebird_2025-scaled.jpg
END:VEVENT
END:VCALENDAR