BEGIN:VCALENDAR
VERSION:2.0
PRODID:-//FireBird Motorsports Park - ECPv6.15.20//NONSGML v1.0//EN
CALSCALE:GREGORIAN
METHOD:PUBLISH
X-WR-CALNAME:FireBird Motorsports Park
X-ORIGINAL-URL:https://racefirebird.com
X-WR-CALDESC:Events for FireBird Motorsports Park
REFRESH-INTERVAL;VALUE=DURATION:PT1H
X-Robots-Tag:noindex
X-PUBLISHED-TTL:PT1H
BEGIN:VTIMEZONE
TZID:UTC
BEGIN:STANDARD
TZOFFSETFROM:+0000
TZOFFSETTO:+0000
TZNAME:UTC
DTSTART:20230101T000000
END:STANDARD
END:VTIMEZONE
BEGIN:VEVENT
DTSTART;VALUE=DATE:20240113
DTEND;VALUE=DATE:20240115
DTSTAMP:20260420T211225
CREATED:20240104T184821Z
LAST-MODIFIED:20240111T055956Z
UID:6224-1705104000-1705276799@racefirebird.com
SUMMARY:Off Road CORR UTV Racing Event
DESCRIPTION:Date:\nJanuary 13-14\, 2024
URL:https://racefirebird.com/event/off-road-corr-utv-racing-event/
ATTACH;FMTTYPE=image/jpeg:https://racefirebird.com/wp-content/uploads/2024/01/corr.jpg
END:VEVENT
END:VCALENDAR