BEGIN:VCALENDAR
VERSION:2.0
PRODID:-//FireBird Motorsports Park - ECPv6.15.20//NONSGML v1.0//EN
CALSCALE:GREGORIAN
METHOD:PUBLISH
X-WR-CALNAME:FireBird Motorsports Park
X-ORIGINAL-URL:https://racefirebird.com
X-WR-CALDESC:Events for FireBird Motorsports Park
REFRESH-INTERVAL;VALUE=DURATION:PT1H
X-Robots-Tag:noindex
X-PUBLISHED-TTL:PT1H
BEGIN:VTIMEZONE
TZID:UTC
BEGIN:STANDARD
TZOFFSETFROM:+0000
TZOFFSETTO:+0000
TZNAME:UTC
DTSTART:20240101T000000
END:STANDARD
END:VTIMEZONE
BEGIN:VEVENT
DTSTART;TZID=UTC:20251101T080000
DTEND;TZID=UTC:20251101T170000
DTSTAMP:20260421T121429
CREATED:20250916T004149Z
LAST-MODIFIED:20250916T004149Z
UID:8082-1761984000-1762016400@racefirebird.com
SUMMARY:ProAutoSports Track Days @ Firebird
DESCRIPTION:About this event\n\nCome join Arizona’s Premier High Performance Driving and Road Racing Organization for a fun filled event at Firebird Motorsports Park’s East Track! \nThis track day will feature: \n  \n\nHigh Performance Drivers Education (HPDE Driving for Street Cars)\nHotLap Time Trial Series\nNew Member Orientation (for all first time participants)\n\nFor more information\, check out our website: www.proautosports.com\, shoot us an email: info@proautosports.com\, or call the office: 480-664-3872. \nRegister: ProAutoSports Track Days @ Firebird East \nEvent requirements\n\n\n Helmets required: must be less than 10 years old and Snell or DOT approved. (Rental helmets are available at track.)\n Minors (under the age of 18) must have a waiver completed and signed by both parents.  Information on the waiver requirements can be found here.\n See website FAQ’s for more Information www.proautosports.com
URL:https://racefirebird.com/event/proautosports-track-days-firebird/
ATTACH;FMTTYPE=image/jpeg:https://racefirebird.com/wp-content/uploads/2025/09/pro-auto-sports-track.jpg
END:VEVENT
END:VCALENDAR