BEGIN:VCALENDAR
VERSION:2.0
PRODID:-//FireBird Motorsports Park - ECPv6.15.20//NONSGML v1.0//EN
CALSCALE:GREGORIAN
METHOD:PUBLISH
X-WR-CALNAME:FireBird Motorsports Park
X-ORIGINAL-URL:https://racefirebird.com
X-WR-CALDESC:Events for FireBird Motorsports Park
REFRESH-INTERVAL;VALUE=DURATION:PT1H
X-Robots-Tag:noindex
X-PUBLISHED-TTL:PT1H
BEGIN:VTIMEZONE
TZID:America/Phoenix
BEGIN:STANDARD
TZOFFSETFROM:-0700
TZOFFSETTO:-0700
TZNAME:MST
DTSTART:20220101T000000
END:STANDARD
END:VTIMEZONE
BEGIN:VEVENT
DTSTART;VALUE=DATE:20231125
DTEND;VALUE=DATE:20231126
DTSTAMP:20260421T222226
CREATED:20231030T191010Z
LAST-MODIFIED:20231030T191010Z
UID:5637-1700870400-1700956799@racefirebird.com
SUMMARY:Balin’s Shutdown Shootout
DESCRIPTION:Saturday we will have our normal Shutdown Showdown event with a few new classes along with a car show and 2 step competition. Food vendors should be on site. \nTickets : https://tickets.thefoat.com/TheTrackatWildhorsePass/Shutdown+Showdown+And+Balins+Black+Friday+Shootout/tickets/id-3ZJXepEQlg0_/ \nRULES & REQUIREMENTS:\nClick Here for Rules ➜ \n  \n\n\n\n\nSaturday Shutdown Showdown Event Rules\n\n\nSaturday November 25\nRacer Gates @ 2:00pm\nTnt Track hot at 4\nClass registration closes @ 5:00\nTech closes @ 5:30\nDrivers meeting at 5:00\nRound 1 right after driver meeting\n\n\nGate fees / Class fee\nTech card………………………………………….…. $45\nClass fees for Shutdown classes……………$200\nShutdown Showdown tnt ………………………$50\nSpectator fee Friday night……………………..$25\nSpectator fee Saturday night…………………$25\n2-day fee………………………………………………$45\n\n\n* Classes\n1. Stick shift\n2. Small tire n/a\n3. Small tire\n4. Big tire\n5. Hard tire\n6. Tailgate\n\n\n\nNo test hits. If you buy tnt for Shutdown you can not enter a class. Same rules as all Showdown Showdowns. First round call outs allowed BUT must be approved by race masters prior to chip draw. All rounds will be chip draw. Flash light start. The same driver can not have more than one bye unless everyone else has had one.\n\n\n\nIf you have any questions or concerns with your set up please ask beforehand. We don’t want any issues during tech.\n\n\nLimited Tech requirements: helmet minimum snell 2015\, lug nuts\, overflow\, battery tied down. If you meet nhra requirements for speed and et please use all safety gear. We do have the right to disqualify you from tech if we see an issue.
URL:https://racefirebird.com/event/shutdown-shootout-2023/
ATTACH;FMTTYPE=:
END:VEVENT
END:VCALENDAR