BEGIN:VCALENDAR
VERSION:2.0
PRODID:-//FireBird Motorsports Park - ECPv6.15.20//NONSGML v1.0//EN
CALSCALE:GREGORIAN
METHOD:PUBLISH
X-WR-CALNAME:FireBird Motorsports Park
X-ORIGINAL-URL:https://racefirebird.com
X-WR-CALDESC:Events for FireBird Motorsports Park
REFRESH-INTERVAL;VALUE=DURATION:PT1H
X-Robots-Tag:noindex
X-PUBLISHED-TTL:PT1H
BEGIN:VTIMEZONE
TZID:UTC
BEGIN:STANDARD
TZOFFSETFROM:+0000
TZOFFSETTO:+0000
TZNAME:UTC
DTSTART:20240101T000000
END:STANDARD
END:VTIMEZONE
BEGIN:VEVENT
DTSTART;TZID=UTC:20250328T070000
DTEND;TZID=UTC:20250330T170000
DTSTAMP:20260421T042943
CREATED:20250224T022141Z
LAST-MODIFIED:20250224T022141Z
UID:7440-1743145200-1743354000@racefirebird.com
SUMMARY:Team Firebird Race 5 and 6
DESCRIPTION:Team Race 5 Saturday\, Team race 6 Sunday Gates: 7 am both days Track Hot: 8am Big Wheels will run Sunday morning only Run Order: To Be Announced Overnight Camping allowed free Saturday night\, camping fee or FND tech card required to camp Friday night
URL:https://racefirebird.com/event/team-firebird-race-5-and-6/
ATTACH;FMTTYPE=image/jpeg:https://racefirebird.com/wp-content/uploads/2025/02/event_banner_1736121681e8856ea.jpg
END:VEVENT
END:VCALENDAR