BEGIN:VCALENDAR
VERSION:2.0
PRODID:-//FireBird Motorsports Park - ECPv6.15.20//NONSGML v1.0//EN
CALSCALE:GREGORIAN
METHOD:PUBLISH
X-WR-CALNAME:FireBird Motorsports Park
X-ORIGINAL-URL:https://racefirebird.com
X-WR-CALDESC:Events for FireBird Motorsports Park
REFRESH-INTERVAL;VALUE=DURATION:PT1H
X-Robots-Tag:noindex
X-PUBLISHED-TTL:PT1H
BEGIN:VTIMEZONE
TZID:UTC
BEGIN:STANDARD
TZOFFSETFROM:+0000
TZOFFSETTO:+0000
TZNAME:UTC
DTSTART:20240101T000000
END:STANDARD
END:VTIMEZONE
BEGIN:VEVENT
DTSTART;TZID=UTC:20250719T180000
DTEND;TZID=UTC:20250719T180000
DTSTAMP:20260421T065942
CREATED:20250428T233326Z
LAST-MODIFIED:20250428T234036Z
UID:7511-1752948000-1752948000@racefirebird.com
SUMMARY:Test n Tune: 50 Vehicle cap
DESCRIPTION:The event features a maximum vehicle count of 50\, allowing for an optimal amount of track time. It is suitable for completing NHRA license passes. \nDrivers\, are you experiencing prolonged wait times in the staging lanes before your turn at the dragstrip? Additionally\, do you need to complete the necessary NHRA License passes and obtain signatures on your documentation packet? Join us for a limited vehicle count Test n Tune and get the track time in you need without the long wait times. \nDate: 19 July 2025 (Saturday)\nLocation: Firebird Motorsports Park (Chandler\, AZ)\nTrack condition: 2 lanes Prepped full length of track\nGates open: 6:00pm\nTrack hot: 7pm-12am\nVehicle count: 50 Max
URL:https://racefirebird.com/event/test-n-tune-50-vehicle-cap-3/
ATTACH;FMTTYPE=image/jpeg:https://racefirebird.com/wp-content/uploads/2025/04/Untitled-design-21.jpg
END:VEVENT
END:VCALENDAR