BEGIN:VCALENDAR
VERSION:2.0
PRODID:-//FireBird Motorsports Park - ECPv6.15.20//NONSGML v1.0//EN
CALSCALE:GREGORIAN
METHOD:PUBLISH
X-WR-CALNAME:FireBird Motorsports Park
X-ORIGINAL-URL:https://racefirebird.com
X-WR-CALDESC:Events for FireBird Motorsports Park
REFRESH-INTERVAL;VALUE=DURATION:PT1H
X-Robots-Tag:noindex
X-PUBLISHED-TTL:PT1H
BEGIN:VTIMEZONE
TZID:UTC
BEGIN:STANDARD
TZOFFSETFROM:+0000
TZOFFSETTO:+0000
TZNAME:UTC
DTSTART:20230101T000000
END:STANDARD
END:VTIMEZONE
BEGIN:VEVENT
DTSTART;VALUE=DATE:20240406
DTEND;VALUE=DATE:20240407
DTSTAMP:20260421T133526
CREATED:20240223T004416Z
LAST-MODIFIED:20240223T042328Z
UID:6563-1712361600-1712447999@racefirebird.com
SUMMARY:The 80’s Rock Tour
DESCRIPTION:The 80’s Rock Tour is about the sound of freedom and rebellion\, where you can relive hits from some of the best rock bands of all time! Get ready to rock out with legends like Lou Gramm – Foreigner Steve Augeri – Journey\, Fran Cosmo – Boston\, John Payne – Asia and more! Don’t miss this chance to witness history in the making. \nVIP and GA Tickets on Sale Now!: https://whppresents.ticketspice.com/80-rock-tour
URL:https://racefirebird.com/event/the-80s-rock-tour/
LOCATION:Wild Horse Pass\, 19593 S 48th St\, Chandler\, AZ 85226\, United States
ATTACH;FMTTYPE=image/png:https://racefirebird.com/wp-content/uploads/2024/02/image-Rock.png
END:VEVENT
END:VCALENDAR