BEGIN:VCALENDAR
VERSION:2.0
PRODID:-//FireBird Motorsports Park - ECPv6.15.20//NONSGML v1.0//EN
CALSCALE:GREGORIAN
METHOD:PUBLISH
X-ORIGINAL-URL:https://racefirebird.com
X-WR-CALDESC:Events for FireBird Motorsports Park
REFRESH-INTERVAL;VALUE=DURATION:PT1H
X-Robots-Tag:noindex
X-PUBLISHED-TTL:PT1H
BEGIN:VTIMEZONE
TZID:UTC
BEGIN:STANDARD
TZOFFSETFROM:+0000
TZOFFSETTO:+0000
TZNAME:UTC
DTSTART:20250101T000000
END:STANDARD
END:VTIMEZONE
BEGIN:VEVENT
DTSTART;TZID=UTC:20260403T080000
DTEND;TZID=UTC:20260405T170000
DTSTAMP:20260421T024724
CREATED:20251224T055738Z
LAST-MODIFIED:20260331T170939Z
UID:10000662-1775203200-1775408400@racefirebird.com
SUMMARY:NHRA Jr. Drag Racing Divisional (Dragstrip)
DESCRIPTION:All tickets will be purchased at the gate. \nApril 3rd\, 2026 – Test & Tune \n\nGates Open: 8:00am\nTest & Tune: 10:00am – 4:00pm\n\nApril 4th\, 2026 – Race #3 \n\nGates Open: 7:00am\nRace Starts: 8:00am\n\nApril 5th\, 2026 – Race #4 \n\nGates Open: 7:00am\nRace Starts: 8:00am\n\nFirebird Pricing \n\nTest & Tune: $60.00\nRace #3 Entry: $80.00\nRace #4 Entry: $80.00\nEvent Crew Pass: $50.00
URL:https://racefirebird.com/event/nhra-jr-drag-racing-divisional-dragstrip/
LOCATION:AZ
ATTACH;FMTTYPE=image/jpeg:https://racefirebird.com/wp-content/uploads/2025/12/Copy-of-firebird-2.jpg
END:VEVENT
END:VCALENDAR