BEGIN:VCALENDAR
VERSION:2.0
PRODID:-//FireBird Motorsports Park - ECPv6.15.20//NONSGML v1.0//EN
CALSCALE:GREGORIAN
METHOD:PUBLISH
X-ORIGINAL-URL:https://racefirebird.com
X-WR-CALDESC:Events for FireBird Motorsports Park
REFRESH-INTERVAL;VALUE=DURATION:PT1H
X-Robots-Tag:noindex
X-PUBLISHED-TTL:PT1H
BEGIN:VTIMEZONE
TZID:America/Phoenix
BEGIN:STANDARD
TZOFFSETFROM:-0700
TZOFFSETTO:-0700
TZNAME:MST
DTSTART:20250101T000000
END:STANDARD
END:VTIMEZONE
BEGIN:VTIMEZONE
TZID:UTC
BEGIN:STANDARD
TZOFFSETFROM:+0000
TZOFFSETTO:+0000
TZNAME:UTC
DTSTART:20250101T000000
END:STANDARD
END:VTIMEZONE
BEGIN:VEVENT
DTSTART;TZID=America/Phoenix:20260424T080000
DTEND;TZID=America/Phoenix:20260426T170000
DTSTAMP:20260419T213844
CREATED:20260401T160853Z
LAST-MODIFIED:20260401T161028Z
UID:10000668-1777017600-1777222800@racefirebird.com
SUMMARY:Arizona Showdown NHRA Heritage Races
DESCRIPTION:Groups 1 & 2 bringing non-stop\, high action drag racing all weekend long! Feel the speed\, hear the roar\, and see the smoke—this is racing at its finest. \nBring the whole family and experience the thrill up close! Tickets will be AVAILABLE SOON. STAY TUNED. \nGroup 1: \nA/Fuel \nJunior Fuel \n7.0 Pro \nGroup 2: \nNostalgia Eliminator 1\, 2\, & 3 \nA Gas\, B Gas\, C Gas\, D Gas \nHot Rod \nFriday: Gates open @ 3 PM \nHeritage Class Qualifying: Session #1 @ 6 PM | Session #2 @ 8 PM\ \nSaturday: Gates open @ 7 AM \nHeritage Class Qualifying: Session #3 @ 10 AM \nElimination Rounds to follow \nSunday: Gates open @ 7 AM \nElimination Rounds to continue from Saturday as necessary \n  \nTicket Information \n3-Day Car & Driver Entry: $150 (Heritage Qualifying) \n3-Day Crew: $75 \nDaily Crew: $25 \nSpectator Admission: * Friday: $25 \nSaturday & Sunday: $30 per day
URL:https://racefirebird.com/event/arizona-showdown-nhra-heritage-races/
LOCATION:AZ
ATTACH;FMTTYPE=image/jpeg:https://racefirebird.com/wp-content/uploads/2026/04/NHRA-HERTIAGE-RACE.jpg
END:VEVENT
BEGIN:VEVENT
DTSTART;TZID=UTC:20260426T080000
DTEND;TZID=UTC:20260426T170000
DTSTAMP:20260419T213844
CREATED:20251219T000708Z
LAST-MODIFIED:20251219T000708Z
UID:10000643-1777190400-1777222800@racefirebird.com
SUMMARY:Summit Race #8
DESCRIPTION:info and tickets coming soon.
URL:https://racefirebird.com/event/summit-race-8/
LOCATION:AZ
ATTACH;FMTTYPE=image/jpeg:https://racefirebird.com/wp-content/uploads/2023/01/Summit-Racing-Series_4c.jpg
END:VEVENT
END:VCALENDAR