BEGIN:VCALENDAR
VERSION:2.0
PRODID:-//FireBird Motorsports Park - ECPv6.15.20//NONSGML v1.0//EN
CALSCALE:GREGORIAN
METHOD:PUBLISH
X-WR-CALNAME:FireBird Motorsports Park
X-ORIGINAL-URL:https://racefirebird.com
X-WR-CALDESC:Events for FireBird Motorsports Park
REFRESH-INTERVAL;VALUE=DURATION:PT1H
X-Robots-Tag:noindex
X-PUBLISHED-TTL:PT1H
BEGIN:VTIMEZONE
TZID:UTC
BEGIN:STANDARD
TZOFFSETFROM:+0000
TZOFFSETTO:+0000
TZNAME:UTC
DTSTART:20240101T000000
END:STANDARD
END:VTIMEZONE
BEGIN:VTIMEZONE
TZID:America/Phoenix
BEGIN:STANDARD
TZOFFSETFROM:-0700
TZOFFSETTO:-0700
TZNAME:MST
DTSTART:20240101T000000
END:STANDARD
END:VTIMEZONE
BEGIN:VEVENT
DTSTART;TZID=UTC:20250608T063000
DTEND;TZID=UTC:20250608T170000
DTSTAMP:20260420T140546
CREATED:20250517T045619Z
LAST-MODIFIED:20250603T053505Z
UID:10000203-1749364200-1749402000@racefirebird.com
SUMMARY:Brake Free Track Time (East Track) June 8\, 2025
DESCRIPTION:Gates open at 630am. Riders meeting is at 730am. Track is hot from 8am-5pm. \nPlease note – there are no refunds and registration is non-transferable for any reason. We ride regardless of weather conditions.\nYou have many options available. These are the groups available; \n  \nMORE INFO HERE: Trackday Registration – BrakeFreeTrackTime
URL:https://racefirebird.com/event/brake-free-track-time/
ATTACH;FMTTYPE=image/jpeg:https://racefirebird.com/wp-content/uploads/2025/05/2png_cb8536ec-ac85-494c-a37a-6efbf445fbc2-ezgif.com-webp-to-jpg-converter.jpg
END:VEVENT
BEGIN:VEVENT
DTSTART;TZID=UTC:20250607T170000
DTEND;TZID=UTC:20250607T230000
DTSTAMP:20260420T140546
CREATED:20250509T112741Z
LAST-MODIFIED:20250509T112741Z
UID:10000202-1749315600-1749337200@racefirebird.com
SUMMARY:DRIFT N DRAGS (MAIN TRACK)
DESCRIPTION:Drift Participants \nEnter through Gate 3 – Opens 5:00pm*** Track Hot 6pm-11pm \nPark in the upper pit area – beyond the tech inspection area \nCrew members pay general admission fees. \nDrift Participants- driver’s meeting 5:45 at the course entrance. \nDrivers and passengers must keep arms inside the vehicle. \nParticipant gates and tech inspection open until 9:30 pm. \n\nDrag Participants \nEnter through Gate 3-Opens 5:00pm*** Track Hot 6pm-11pm \nPark in the upper pit area – before the tech inspection area \nCrew members pay general admission fees. \nListen for announcements over the PA. \nCars with street tires line up in staging lanes 2-4 & cars with slicks line up in lane 5. \nLane 1 is Junior Street and Motorcycles \nBE SAFE & HAVE FUN!
URL:https://racefirebird.com/event/drift-n-drags-main-track/
ATTACH;FMTTYPE=image/jpeg:https://racefirebird.com/wp-content/uploads/2025/05/Copy-of-firebird-1.jpg
END:VEVENT
BEGIN:VEVENT
DTSTART;TZID=UTC:20250531T040000
DTEND;TZID=UTC:20250531T110000
DTSTAMP:20260420T140546
CREATED:20250425T235935Z
LAST-MODIFIED:20250425T235935Z
UID:10000199-1748664000-1748689200@racefirebird.com
SUMMARY:National Auto Sports Association (East Track)
DESCRIPTION:Track \nFirebird – East Track (Clockwise Direction) \n2000 S. Maricopa Road \nChandler\, AZ 85226 \nEnter at “Gate 1” (this gate is easy to miss! It is immediately next to the Chevron gas station) \nRun Groups \n• HPDE1-4 \n• NASA Time Trial (regular points event) \n• UMS Tuning Time Attack Series (regular points event) \nPaddock / Gate Times \n• Friday: TBD – Pro Tip: In the event we do not offer overnight camping in the paddock\, RV dry camping options are available across the street at the Wild Horse Pass Casino parking lot. \n• Saturday: Gates will open at 4AM and we need to lock the paddock gate by no later than noon. \nPRE-Event and Paddock Setup \nNASA does NOT paddock on the infield of the track. We park outside of the track to maximize everyone’s track time by not having to spend 2-3 extra mins for each session to allow cars back and forth across the track. It is also safer as it is impossible to contain all cars and participants from getting too close to the on-track cars. \nWaiver \nAnyone entering the facility will need to sign the NASA Waiver. If you are not stopped at the gate to sign this\, please stop Driver Info prior to the Sat morning Drivers Meeting.
URL:https://racefirebird.com/event/national-auto-sports-association-east-track/
ATTACH;FMTTYPE=image/jpeg:https://racefirebird.com/wp-content/uploads/2025/04/Untitled-design-20.jpg
END:VEVENT
BEGIN:VEVENT
DTSTART;TZID=UTC:20250530T173000
DTEND;TZID=UTC:20250530T230000
DTSTAMP:20260420T140546
CREATED:20250425T233359Z
LAST-MODIFIED:20250509T112408Z
UID:10000198-1748626200-1748646000@racefirebird.com
SUMMARY:FRIDAY NIGHT DRAGS
DESCRIPTION:Join us for street-legal-style drag racing at Friday Night Drags! Gate 3 opens at 5:30PM Racing starts at 6:30PM Friday Night “Run What You Brung” open drags have been a staple of the Arizona racing community for over 25 years. Whether you are driving an all-out race car or your daily driver\, you can race down the same 1/4-mile track that the NHRA Pro drivers do. On a typical Friday night\, you can expect to see everything from a minivan to an occasional jet car testing.
URL:https://racefirebird.com/event/friday-night-drags-2/
ATTACH;FMTTYPE=image/jpeg:https://racefirebird.com/wp-content/uploads/2025/02/fridaynightdrags.jpg
END:VEVENT
BEGIN:VEVENT
DTSTART;TZID=UTC:20250509T173000
DTEND;TZID=UTC:20250509T230000
DTSTAMP:20260420T140546
CREATED:20250429T005237Z
LAST-MODIFIED:20250502T004214Z
UID:10000201-1746811800-1746831600@racefirebird.com
SUMMARY:FRIDAY NIGHT DRAGS
DESCRIPTION:Join us for street-legal-style drag racing at Friday Night Drags! Gate 3 opens at 5:30PM Racing starts at 6:30PM Friday Night “Run What You Brung” open drags have been a staple of the Arizona racing community for over 25 years. Whether you are driving an all-out race car or your daily driver\, you can race down the same 1/4-mile track that the NHRA Pro drivers do. On a typical Friday night\, you can expect to see everything from a minivan to an occasional jet car testing! \n  \n 
URL:https://racefirebird.com/event/friday-night-drags-3/
ATTACH;FMTTYPE=image/jpeg:https://racefirebird.com/wp-content/uploads/2025/02/fridaynightdrags.jpg
END:VEVENT
BEGIN:VEVENT
DTSTART;TZID=UTC:20250503T170000
DTEND;TZID=UTC:20250503T230000
DTSTAMP:20260420T140546
CREATED:20250326T000042Z
LAST-MODIFIED:20250426T001454Z
UID:10000192-1746291600-1746313200@racefirebird.com
SUMMARY:Drift N Drag (Main Track)
DESCRIPTION:Drift Participants\nEnter through Gate 3 – Opens 5:00pm*** Track Hot 6pm-11pm\nPark in the upper pit area – beyond the tech inspection area\nCrew members pay general admission fees.\nDrift Participants- driver’s meeting 5:45 at the course entrance.\nDrivers and passengers must keep arms inside the vehicle.\nParticipant gates and tech inspection open until 9:30 pm. \nDrag Participants\nEnter through Gate 3-Opens 5:00pm*** Track Hot 6pm-11pm\nPark in the upper pit area – before the tech inspection area\nCrew members pay general admission fees.\nListen for announcements over the PA.\nCars with street tires line up in staging lanes 2-4 & cars with slicks line up in lane 5.\nLane 1 is Junior Street and Motorcycles\nBE SAFE & HAVE FUN!
URL:https://racefirebird.com/event/drift-n-drag/
ATTACH;FMTTYPE=image/jpeg:https://racefirebird.com/wp-content/uploads/2024/12/drift-and-drag.jpg
END:VEVENT
BEGIN:VEVENT
DTSTART;VALUE=DATE:20250503
DTEND;VALUE=DATE:20250504
DTSTAMP:20260420T140546
CREATED:20250325T235026Z
LAST-MODIFIED:20250325T235419Z
UID:10000187-1746230400-1746316799@racefirebird.com
SUMMARY:USDM SUPER MEET - ARIZONA 2025
DESCRIPTION:SHOW + MEET + DRAG RACING // A DOPE HONDA + ACURA EVENT
URL:https://racefirebird.com/event/usdm-super-meet-arizona-2025/
ATTACH;FMTTYPE=image/jpeg:https://racefirebird.com/wp-content/uploads/2025/03/event_banner_1740114903b76f2490241.jpg
END:VEVENT
BEGIN:VEVENT
DTSTART;VALUE=DATE:20250426
DTEND;VALUE=DATE:20250428
DTSTAMP:20260420T140546
CREATED:20250326T001353Z
LAST-MODIFIED:20250326T001353Z
UID:10000194-1745625600-1745798399@racefirebird.com
SUMMARY:Pro Auto Sports (East Track Road Course)
DESCRIPTION:Come join Arizona’s Premier High-Performance Driving and Road Racing Organization for a fun filled two-day event at Firebird Motorsports Park’s East Track! This event will feature: High Performance Drivers Education (HPDE Driving for Street Cars) Open Wheel Racing Closed Wheel Racing HotLap Time Trial Series New Member Orientation- Saturday Online Registration will open approximately one month before the event. Hope to see you there!
URL:https://racefirebird.com/event/pro-auto-sports-east-track-road-course/
ATTACH;FMTTYPE=image/jpeg:https://racefirebird.com/wp-content/uploads/2025/03/pro-auto-sports-track.jpg
END:VEVENT
BEGIN:VEVENT
DTSTART;VALUE=DATE:20250426
DTEND;VALUE=DATE:20250427
DTSTAMP:20260420T140546
CREATED:20250325T235850Z
LAST-MODIFIED:20250408T051812Z
UID:10000190-1745625600-1745711999@racefirebird.com
SUMMARY:Team Summit Race # 7
DESCRIPTION:Team Race 7 Saturday\, Team race 8 Sunday Gates: 7am Track Hot: 8am Run Order: To Be Announced Overnight Camping allowed free Saturday night\, camping fee or FND tech card required to camp Friday night
URL:https://racefirebird.com/event/team-summit-race-7/
ATTACH;FMTTYPE=image/jpeg:https://racefirebird.com/wp-content/uploads/2025/02/event_banner_1736121681e8856ea.jpg
END:VEVENT
BEGIN:VEVENT
DTSTART;TZID=UTC:20250425T170000
DTEND;TZID=UTC:20250425T220000
DTSTAMP:20260420T140546
CREATED:20250325T235754Z
LAST-MODIFIED:20250408T052805Z
UID:10000189-1745600400-1745618400@racefirebird.com
SUMMARY:Friday Night Drags
DESCRIPTION:Join us for street-legal-style drag racing at Friday Night Drags! Gate 3 opens at 5:30PM Racing starts at 6:30PM Friday Night “Run What You Brung” open drags have been a staple of the Arizona racing community for over 25 years. Whether you are driving an all-out race car or your daily driver\, you can race down the same 1/4-mile track that the NHRA Pro drivers do. On a typical Friday night\, you can expect to see everything from a minivan to an occasional jet car testing!
URL:https://racefirebird.com/event/friday-night-drags/
ATTACH;FMTTYPE=image/jpeg:https://racefirebird.com/wp-content/uploads/2025/02/fridaynightdrags.jpg
END:VEVENT
BEGIN:VEVENT
DTSTART;TZID=UTC:20250419T170000
DTEND;TZID=UTC:20250419T220000
DTSTAMP:20260420T140546
CREATED:20250325T235635Z
LAST-MODIFIED:20250408T051655Z
UID:10000188-1745082000-1745100000@racefirebird.com
SUMMARY:Easter Drift / Shutdown Showdown
DESCRIPTION:Gate open at 3PM Track Hot at 5pm with TNT/ GRUDGE no prep drags and open drifting on Skidpad and west track Shutdown Showdown events 1/8 mile No-Prep “outlaw” style Drag Racing to the extreme! The starting line is moved to the finish line where competitors run on a bare asphalt surface with a flashlight start and no timing system. The first car to the finish line takes the win! ALSO Drifting on 2 courses along with an exciting Competition at 9pm!!
URL:https://racefirebird.com/event/easter-drift-shutdown-showdown/
ATTACH;FMTTYPE=image/jpeg:https://racefirebird.com/wp-content/uploads/2025/03/event_banner_17361249182dbc1df91cb.jpeg
END:VEVENT
BEGIN:VEVENT
DTSTART;VALUE=DATE:20250411
DTEND;VALUE=DATE:20250414
DTSTAMP:20260420T140546
CREATED:20250326T000951Z
LAST-MODIFIED:20250326T000951Z
UID:10000193-1744329600-1744588799@racefirebird.com
SUMMARY:CORR UTV Racing (Off Road Track)
DESCRIPTION:Creating CHAMPIONS! \nOriginally launched in 2022 by a small group of off-road racers and enthusiasts\, the new Championship Off-Road Racing (CORR) series was created to focus on UTV and short-track racing. Based in the Southwest and dedicated to the fast-growing UTV industry\, CORR features action-packed\, closed-circuit tracks like Firebird Raceway\, offering great spectating opportunities for all. \nAlso\, recognizing that the youth are the future of racing\, we offer classes and competition for all ages and skill levels\, including classes for the seasoned professional. \nCome be a part of our CORR Values racing! A weekend with CORR is family-friendly\, offering a wide variety of racing and entertainment for everyone. \n  \n 
URL:https://racefirebird.com/event/corr-utv-racing-off-road-track-3/
ATTACH;FMTTYPE=image/png:https://racefirebird.com/wp-content/uploads/2025/03/2025-Season-Finale.png
END:VEVENT
BEGIN:VEVENT
DTSTART;TZID=UTC:20250409T150000
DTEND;TZID=UTC:20250409T220000
DTSTAMP:20260420T140546
CREATED:20250325T234439Z
LAST-MODIFIED:20250325T234439Z
UID:10000186-1744210800-1744236000@racefirebird.com
SUMMARY:Test n Tune: 50 Vehicle cap
DESCRIPTION:50 max vehicle count ensures maximum amount of track time! Complete NHRA license passes! Soft tires only\, must be classified as Drag Radial\, Slick\, or Tread Wear rating of 200 or less.\n\nDrivers! Are you tired of sitting in the staging lanes for hours waiting for your chance to get a pass in at the dragstrip? Or do you need to complete your NHRA License passes and get signatures on the packet? \nDate: 09 April (Wednesday)\nLocation: Firebird Raceway (Chandler\, AZ)\nTrack condition: 2 lanes Prepped full length of track\nGates open: 3:00pm\nDriver brief: 4:30pm\nTrack hot: 5pm-10pm\nVehicle count: 50 Max
URL:https://racefirebird.com/event/test-n-tune-50-vehicle-cap-2/
ATTACH;FMTTYPE=image/jpeg:https://racefirebird.com/wp-content/uploads/2025/03/event_banner_1741840909cccbba.jpg
END:VEVENT
BEGIN:VEVENT
DTSTART;TZID=UTC:20250405T080000
DTEND;TZID=UTC:20250405T173000
DTSTAMP:20260420T140546
CREATED:20250304T040723Z
LAST-MODIFIED:20250304T040723Z
UID:10000184-1743840000-1743874200@racefirebird.com
SUMMARY:LAW TIGERS PRESENTS: METRO MAYHEM AZ 25'
DESCRIPTION:COME EXPERIENCE THE LARGEST GATHERING OF MOTORCYCLE ACTION IN THE COUNTRY!\nMETRO MAYHEM PRESENTED BY LAW TIGERS ARIZONA’S MOTORCYCLE LAWYERS! \n  \n*WHAT TO EXPECT!! \n*THE BIGGEST AND MOST ACTION PACKED STUNT COMPETITION FINALLY RETURNS TO ARIZONA!! THE BRAWL!!! HOSTED BY RIDE & DESTROY GUARANTEES TO LEAVE YOU ON THE EDGE OF YOUR SEATS! \n*ADDING TO THE MAYHEM IN A HUGE WAY IS GET VERTICAL HOSTING THEIR EPIC ‘STUNT GAMES’ & ‘LIMBO DRIFT’ COMPETITIONS!! INNOVATING THE STUNT WORLD WITH UNIQUE COMPETITIONS THAT KEEP THE FANS CHEERING FOR MORE! \n*NEW TO METRO MAYHEM THIS YEAR IS THE SPORT BIKE STUNT COMPETITIONS HOSTED BY GET VERTICAL & SCRAPECITY! WATCH THE MASTERS OF TECHNICAL MANEUVERS BATTLE IT OUT FOR THE CHAMPIONSHIP! \n  \n*TAKING FULL ADVANTAGE OF OUR AMAZING VENUE WESTERN PRO EXTREME ASSOCIATION WILL BE RUNNING OUR MOTORCYCLE ONLY DRAG RACES! BRINGING YOU MID 6 SEC BIKES BLAZING DOWN A FULL 1/4 MILE NHRA DRAG STRIP AT OVER 200MPH!! \n  \n*FEELING THE NEED FOR SPEED YOURSELF!? MAKE SURE TO TAKE ADVANTAGE OF OUR RUN WHAT YOU BRUNG 1/8TH MILE DRAG RACING AND SEE WHAT YOU ARE CAPABLE OF!! \n  \n*RETURNING FOR THE 2ND YEAR ‘LOWRIDER HALL OF FAMER’ FRANKS HYDRAULICS WILL BRING THE ACTION FROM THE LOWRIDER SIDE WITH HIS WORLD FAMOUS CAR HOP! ENJOY THE THRILL OF SEEING A CLASSIC CAR THROW THEIR FRONT END 80+ INCHES IN THE AIR! \n  \n*WANT TO EXPERIENCE THE THRILL OF DRIVING SIDEWAYS AT 90MPH WHILE RIPPING AROUND A TURN!? GET SIGNED UP FOR OUR PRO DRIFTER RIDE ALONGS BROUGHT TO YOU BY ICON MECHANICAL! \n  \n* WHILE HAVING THE TIME OF YOUR LIFE DON’T MISS OUT ON THE MOTORCYCLE SPECIFIC VENDOR ROW!
URL:https://racefirebird.com/event/law-tigers-presents-metro-mayhem-az-25/
ATTACH;FMTTYPE=image/png:https://racefirebird.com/wp-content/uploads/2025/03/META-COVER-PAGE.png
END:VEVENT
BEGIN:VEVENT
DTSTART;TZID=UTC:20250404T173000
DTEND;TZID=UTC:20250404T220000
DTSTAMP:20260420T140546
CREATED:20250405T015857Z
LAST-MODIFIED:20250405T015857Z
UID:10000195-1743787800-1743804000@racefirebird.com
SUMMARY:BIKES ONLY Friday Night Drags "Run What Ya Brung"
DESCRIPTION:Join us for a night of “motorcycles only” drag racing at Friday Night Drags! Gate 3 opens at 5:30PM Racing starts at 6:30PM Friday Night “Run What You Brung” open drags have been a staple of the Arizona racing community for over 25 years. We are doing something special this week by holding an open night for motorcycles only!
URL:https://racefirebird.com/event/bikes-only-friday-night-drags-run-what-ya-brung/
ATTACH;FMTTYPE=image/jpeg:https://racefirebird.com/wp-content/uploads/2023/01/FriDrags_icon.jpg
END:VEVENT
BEGIN:VEVENT
DTSTART;TZID=UTC:20250328T173000
DTEND;TZID=UTC:20250328T220000
DTSTAMP:20260420T140546
CREATED:20250224T021034Z
LAST-MODIFIED:20250224T021034Z
UID:10000182-1743183000-1743199200@racefirebird.com
SUMMARY:Friday Night Drags "Run What Ya Brung"
DESCRIPTION:Join us for street-legal-style drag racing at Friday Night Drags! Gate 3 opens at 5:30PM Racing starts at 6:30PM Friday Night “Run What You Brung” open drags have been a staple of the Arizona racing community for over 25 years. Whether you are driving an all-out race car or your daily driver\, you can race down the same 1/4-mile track that the NHRA Pro drivers do. On a typical Friday night\, you can expect to see everything from a minivan to an occasional jet car testing!
URL:https://racefirebird.com/event/friday-night-drags-run-what-ya-brung-2/
ATTACH;FMTTYPE=image/jpeg:https://racefirebird.com/wp-content/uploads/2025/02/fridaynightdrags.jpg
END:VEVENT
BEGIN:VEVENT
DTSTART;TZID=UTC:20250328T070000
DTEND;TZID=UTC:20250330T170000
DTSTAMP:20260420T140546
CREATED:20250224T022141Z
LAST-MODIFIED:20250224T022141Z
UID:10000183-1743145200-1743354000@racefirebird.com
SUMMARY:Team Firebird Race 5 and 6
DESCRIPTION:Team Race 5 Saturday\, Team race 6 Sunday Gates: 7 am both days Track Hot: 8am Big Wheels will run Sunday morning only Run Order: To Be Announced Overnight Camping allowed free Saturday night\, camping fee or FND tech card required to camp Friday night
URL:https://racefirebird.com/event/team-firebird-race-5-and-6/
ATTACH;FMTTYPE=image/jpeg:https://racefirebird.com/wp-content/uploads/2025/02/event_banner_1736121681e8856ea.jpg
END:VEVENT
BEGIN:VEVENT
DTSTART;TZID=UTC:20250325T080000
DTEND;TZID=UTC:20250325T170000
DTSTAMP:20260420T140546
CREATED:20250325T235932Z
LAST-MODIFIED:20250408T052215Z
UID:10000191-1742889600-1742922000@racefirebird.com
SUMMARY:Team Summit Race #8
DESCRIPTION:Team Race 7 Saturday\, Team race 8 Sunday Gates:7 am Track Hot: 8am Run Order: To Be Announced Overnight Camping allowed free Saturday night\, camping fee or FND tech card required to camp Friday night
URL:https://racefirebird.com/event/team-summit-race-8/
ATTACH;FMTTYPE=image/jpeg:https://racefirebird.com/wp-content/uploads/2025/02/event_banner_1736121681e8856ea.jpg
END:VEVENT
BEGIN:VEVENT
DTSTART;TZID=UTC:20250321T073000
DTEND;TZID=UTC:20250323T180000
DTSTAMP:20260420T140546
CREATED:20241218T051322Z
LAST-MODIFIED:20241218T051322Z
UID:10000158-1742542200-1742752800@racefirebird.com
SUMMARY:NHRA Arizona Nationals 2025
DESCRIPTION:NHRA ARIZONA NATIONALS 2025\nTickets are on sale now! \n\nFri\, Mar 21\, 2025 ⦁ 7:30am\nSat\, Mar 22\, 2025 ⦁ 7:30am\nSun\, Mar 23\, 2025 ⦁ 7:30am\n\n  \nTickets: 2025 NHRA Arizona Nationals- Phoenix\, AZ | National Hot Rod Association \n\nSingle Day\n3 Day ticket package\nMotorhome/Camping\nPreferred Parking\nSuites\n\n\nFirebird Motorsports Park\n20000 S. Maricopa Rd.\nChandler\, AZ\, 85226
URL:https://racefirebird.com/event/nhra-arizona-nationals-2025/
ATTACH;FMTTYPE=image/jpeg:https://racefirebird.com/wp-content/uploads/2024/12/PA125-Push-1080x1080-Matt-Hagan.jpg
END:VEVENT
BEGIN:VEVENT
DTSTART;TZID=UTC:20250315T160000
DTEND;TZID=UTC:20250315T230000
DTSTAMP:20260420T140546
CREATED:20250304T230038Z
LAST-MODIFIED:20250304T230038Z
UID:10000185-1742054400-1742079600@racefirebird.com
SUMMARY:West Track DRIFT ONLY Event
DESCRIPTION:Drift Participants\nEnter through Gate 3 – Opens 4:00pm*** Track Hot 5pm-11pm\nSpectator gates open 5pm enter Gate 2 \nCrew members pay general admission fees.\nDrift Participants- driver’s meeting 4:45 at the course entrance.\nDrivers and passengers must keep arms inside the vehicle.\nParticipant gates and tech inspection open until 10pm.
URL:https://racefirebird.com/event/west-track-drift-only-event/
ATTACH;FMTTYPE=image/jpeg:https://racefirebird.com/wp-content/uploads/2024/12/drift-and-drag.jpg
END:VEVENT
BEGIN:VEVENT
DTSTART;TZID=UTC:20250314T060000
DTEND;TZID=UTC:20250316T170000
DTSTAMP:20260420T140546
CREATED:20250204T003601Z
LAST-MODIFIED:20250204T003601Z
UID:10000179-1741932000-1742144400@racefirebird.com
SUMMARY:CORR UTV Racing (Off Road Track)
DESCRIPTION:Creating CHAMPIONS! \nOriginally launched in 2022 by a small group of off-road racers and enthusiasts\, the new Championship Off-Road Racing (CORR) series was created to focus on UTV and short-track racing. Based in the Southwest and dedicated to the fast-growing UTV industry\, CORR features action-packed\, closed-circuit tracks like Firebird Raceway\, offering great spectating opportunities for all. \nAlso\, recognizing that the youth are the future of racing\, we offer classes and competition for all ages and skill levels\, including classes for the seasoned professional. \nCome be a part of our CORR Values racing! A weekend with CORR is family-friendly\, offering a wide variety of racing and entertainment for everyone. \n  \nSCHEDULE: Schedule | Championship Off-Road Racing \n 
URL:https://racefirebird.com/event/corr-utv-racing-off-road-track-2/
ATTACH;FMTTYPE=image/png:https://racefirebird.com/wp-content/uploads/2024/09/CORR-Logo-SM-no-background-Final.png
END:VEVENT
BEGIN:VEVENT
DTSTART;TZID=UTC:20250309T120000
DTEND;TZID=UTC:20250309T180000
DTSTAMP:20260420T140546
CREATED:20250204T005217Z
LAST-MODIFIED:20250204T005217Z
UID:10000180-1741521600-1741543200@racefirebird.com
SUMMARY:Test N Tune: 50 Vehicle Cap
DESCRIPTION:50 max vehicle count ensures maximum amount of track time! Perfect event for completing NHRA license passes! Or just get a ton of test passes in before the next big competition race! \nDrivers! Are you tired of sitting in the staging lanes for hours waiting for your chance to get a pass in at the dragstrip? Or do you need to complete your NHRA License passes and get signatures on the packet? \nDate: 09 March (Sunday)\nLocation: Firebird Raceway (Chandler\, AZ)\nTrack condition: 2 lanes Prepped full length of track\nGates open: 10:30am\nDriver brief: 11:30am\nTrack hot: 12pm-6pm\nVehicle count: 50 Max
URL:https://racefirebird.com/event/test-n-tune-50-vehicle-cap/
ATTACH;FMTTYPE=image/jpeg:https://racefirebird.com/wp-content/uploads/2025/02/test-N-tune.jpg
END:VEVENT
BEGIN:VEVENT
DTSTART;TZID=UTC:20250307T070000
DTEND;TZID=UTC:20250308T180000
DTSTAMP:20260420T140546
CREATED:20241223T044518Z
LAST-MODIFIED:20250115T001934Z
UID:10000174-1741330800-1741456800@racefirebird.com
SUMMARY:NHRDA Diesels in the Desert (Dragstrip)
DESCRIPTION:Diesels in the Desert\n\n\nAbout this Event\n\n\n\nThe Biggest Truck show in Arizona returns to the Legendary Firebird Motorsports Park!! \nDrag Racing\, Big Rig Light Show\, Burnout Pit\, Dyno Contest and Show n Shine!\n\n\n\n\nWhen\n\n\nFriday March 7\, 2025\nthru\nSaturday March 8\, 2025\n\n\nMORE INFO: Diesels in the Desert Event – NHRDA\n\n\nLocation\n\n\nFirebird Motorsports Park\n20000 S. Maricopa Rd\nChandler\, AZ 85226\n\n\n\nEvent Documents\n\n\nTerms & Conditions\n\n\n\n\n\n\n\nRefund Policy\n\n\nSee Terms & Conditions\n\n\nGearheadEvents.com fees are not refundable
URL:https://racefirebird.com/event/nhrda-diesel-drags-dragstrip/
ATTACH;FMTTYPE=image/jpeg:https://racefirebird.com/wp-content/uploads/2024/12/Untitled-design-6.jpg
END:VEVENT
BEGIN:VEVENT
DTSTART;TZID=UTC:20250301T080000
DTEND;TZID=UTC:20250302T170000
DTSTAMP:20260420T140546
CREATED:20241223T043316Z
LAST-MODIFIED:20241223T043509Z
UID:10000173-1740816000-1740934800@racefirebird.com
SUMMARY:Jr. Dragster Divisional (Dragstrip)
DESCRIPTION:Tickets and more information coming soon!
URL:https://racefirebird.com/event/jr-dragster-divisional-dragstrip/
ATTACH;FMTTYPE=image/png:https://racefirebird.com/wp-content/uploads/2024/05/firebird-1.png
END:VEVENT
BEGIN:VEVENT
DTSTART;TZID=UTC:20250222T090000
DTEND;TZID=UTC:20250222T180000
DTSTAMP:20260420T140546
CREATED:20250131T061220Z
LAST-MODIFIED:20250215T070738Z
UID:10000178-1740214800-1740247200@racefirebird.com
SUMMARY:Meet NHRA Pros at Firebird Fan Day!
DESCRIPTION:🚗🔥 Meet NHRA Pros at Firebird Fan Day! 🔥🚗 \nJoin us for Firebird Fan Day at Firebird Motorsports Park in Chandler\, AZ on Saturday\, Feb. 22\, from 9 AM to 6 PM! This action-packed event is perfect for motorsports fans of all ages. \n🏁 Meet NHRA Pro Drivers\n🏁 Top Alcohol Dragsters & Funny Car Racing\n🏁 Autograph Sessions & Free Firebird Coozies\n🏁 Food & Beverage Vendors \nTickets are just $25—don’t miss this thrilling lead-up to the 40th Anniversary NHRA Arizona Nationals in March! \n📍 Location: Firebird Motorsports Park\, 20000 S. Maricopa Rd.\, Chandler\, AZ\n📅 Date: Saturday\, Feb. 22\n🎟️ Cost: $25 \nFor details\, visit Firebird Motorsports Park’s website. See you at the track! 🏎️💨 #NHRA #FirebirdFanDay #DragRacing
URL:https://racefirebird.com/event/meet-nhra-pros-at-firebird-fan-day/
LOCATION:Firebird Motorsports Park​\, Firebird Motorsports Park​ 20000 S Maricopa Rd. Chandler\, AZ 85226 ​\, AZ\, 85226\, United States
ATTACH;FMTTYPE=image/jpeg:https://racefirebird.com/wp-content/uploads/2025/01/fanday_social.jpg
END:VEVENT
BEGIN:VEVENT
DTSTART;VALUE=DATE:20250218
DTEND;VALUE=DATE:20250224
DTSTAMP:20260420T140546
CREATED:20241223T035616Z
LAST-MODIFIED:20250204T011253Z
UID:10000172-1739836800-1740355199@racefirebird.com
SUMMARY:NHRA Division 7 Doubleheader (Dragstrip)
DESCRIPTION:The NHRA Pacific Division 7 Lucas Oil Drag Racing Series will be at Firebird Motorsports Park February 20th-23rd\, 2025. This event is one of 48 events across the country divided into 7 divisions where drivers earn points leading to divisional\, regional and national championships as well as a chance at a share of the year-end purse. \n 
URL:https://racefirebird.com/event/nhra-division-7-doubleheader-dragstrip/
ATTACH;FMTTYPE=image/jpeg:https://racefirebird.com/wp-content/uploads/2024/12/Div7_LODRS_Firebird_2025-scaled.jpg
END:VEVENT
BEGIN:VEVENT
DTSTART;TZID=UTC:20250216T080000
DTEND;TZID=UTC:20250216T170000
DTSTAMP:20260420T140546
CREATED:20241223T035414Z
LAST-MODIFIED:20241223T035414Z
UID:10000171-1739692800-1739725200@racefirebird.com
SUMMARY:Team Firebird Race #4 (Dragstrip)
DESCRIPTION:Tickets and more info coming soon…
URL:https://racefirebird.com/event/team-firebird-race-4-dragstrip/
ATTACH;FMTTYPE=image/png:https://racefirebird.com/wp-content/uploads/2024/05/firebird-1.png
END:VEVENT
BEGIN:VEVENT
DTSTART;TZID=UTC:20250215T080000
DTEND;TZID=UTC:20250216T170000
DTSTAMP:20260420T140546
CREATED:20241223T034422Z
LAST-MODIFIED:20250206T233808Z
UID:10000169-1739606400-1739725200@racefirebird.com
SUMMARY:ASMA Motorcycle Racing (East Track)
DESCRIPTION:2/15/25\n\n\n\n\nASMA Trackday\n\n\nFirebird Motorsports Park \n\n\n\n\n\n\n9am – 4:30pm\n\n\n\n  \n\n\n\n2/16/2025\n\n\n\n\nASMA Roadracing\n\n\nFirebird Motorsports Park \n\n\n\n\n\n\n8:30am – 5pm\n\n\n\n  \nTickets: Online Signups
URL:https://racefirebird.com/event/asma-motorcycle-racing-east-track/
ATTACH;FMTTYPE=image/jpeg:https://racefirebird.com/wp-content/uploads/2024/12/Untitled-design-5.jpg
END:VEVENT
BEGIN:VEVENT
DTSTART;TZID=UTC:20250215T080000
DTEND;TZID=UTC:20250215T170000
DTSTAMP:20260420T140546
CREATED:20241223T035315Z
LAST-MODIFIED:20250109T233853Z
UID:10000170-1739606400-1739638800@racefirebird.com
SUMMARY:Team Firebird Race #3 (Drag Strip)
DESCRIPTION:Team Race 3 Saturday\, Team race 4 Sunday Gates:7 am Track Hot: 8am With Big wheels. Run Order: To Be Announced Overnight Camping allowed free Saturday night\, camping fee or FND tech card required to camp Friday night
URL:https://racefirebird.com/event/team-firebird-race-3-drag-strip/
ATTACH;FMTTYPE=image/png:https://racefirebird.com/wp-content/uploads/2024/05/firebird-1.png
END:VEVENT
BEGIN:VEVENT
DTSTART;TZID=UTC:20250214T170000
DTEND;TZID=UTC:20250214T220000
DTSTAMP:20260420T140546
CREATED:20241223T032115Z
LAST-MODIFIED:20250109T234027Z
UID:10000168-1739552400-1739570400@racefirebird.com
SUMMARY:Friday Night Drags (Dragstrip)
DESCRIPTION:Join us for street-legal-style drag racing at Friday Night Drags! Gate 3 opens at 5:30PM Racing starts at 6:30PM Friday Night “Run What You Brung” open drags have been a staple of the Arizona racing community for over 25 years. Whether you are driving an all-out race car or your daily driver\, you can race down the same 1/4-mile track that the NHRA Pro drivers do. On a typical Friday night\, you can expect to see everything from a minivan to an occasional jet car testing!
URL:https://racefirebird.com/event/friday-night-drags-dragstrip-2/
ATTACH;FMTTYPE=image/jpeg:https://racefirebird.com/wp-content/uploads/2023/01/FriDrags_icon.jpg
END:VEVENT
END:VCALENDAR