BEGIN:VCALENDAR
VERSION:2.0
PRODID:-//FireBird Motorsports Park - ECPv6.15.20//NONSGML v1.0//EN
CALSCALE:GREGORIAN
METHOD:PUBLISH
X-WR-CALNAME:FireBird Motorsports Park
X-ORIGINAL-URL:https://racefirebird.com
X-WR-CALDESC:Events for FireBird Motorsports Park
REFRESH-INTERVAL;VALUE=DURATION:PT1H
X-Robots-Tag:noindex
X-PUBLISHED-TTL:PT1H
BEGIN:VTIMEZONE
TZID:UTC
BEGIN:STANDARD
TZOFFSETFROM:+0000
TZOFFSETTO:+0000
TZNAME:UTC
DTSTART:20250101T000000
END:STANDARD
END:VTIMEZONE
BEGIN:VEVENT
DTSTART;TZID=UTC:20260606T173000
DTEND;TZID=UTC:20260606T220000
DTSTAMP:20260419T231204
CREATED:20251219T001700Z
LAST-MODIFIED:20251219T001859Z
UID:10000646-1780767000-1780783200@racefirebird.com
SUMMARY:Drift N Drag
DESCRIPTION:Tickets and info coming soon.
URL:https://racefirebird.com/event/drift-n-drag-3/
LOCATION:AZ
ATTACH;FMTTYPE=image/jpeg:https://racefirebird.com/wp-content/uploads/2025/08/fridaynightdrags.jpg
END:VEVENT
END:VCALENDAR